BEGIN:VCALENDAR
VERSION:2.0
PRODID:-//Pine Technical and Community College - ECPv6.15.20//NONSGML v1.0//EN
CALSCALE:GREGORIAN
METHOD:PUBLISH
X-WR-CALNAME:Pine Technical and Community College
X-ORIGINAL-URL:https://pine.edu
X-WR-CALDESC:Events for Pine Technical and Community College
REFRESH-INTERVAL;VALUE=DURATION:PT1H
X-Robots-Tag:noindex
X-PUBLISHED-TTL:PT1H
BEGIN:VTIMEZONE
TZID:America/Chicago
BEGIN:DAYLIGHT
TZOFFSETFROM:-0600
TZOFFSETTO:-0500
TZNAME:CDT
DTSTART:20240310T080000
END:DAYLIGHT
BEGIN:STANDARD
TZOFFSETFROM:-0500
TZOFFSETTO:-0600
TZNAME:CST
DTSTART:20241103T070000
END:STANDARD
BEGIN:DAYLIGHT
TZOFFSETFROM:-0600
TZOFFSETTO:-0500
TZNAME:CDT
DTSTART:20250309T080000
END:DAYLIGHT
BEGIN:STANDARD
TZOFFSETFROM:-0500
TZOFFSETTO:-0600
TZNAME:CST
DTSTART:20251102T070000
END:STANDARD
BEGIN:DAYLIGHT
TZOFFSETFROM:-0600
TZOFFSETTO:-0500
TZNAME:CDT
DTSTART:20260308T080000
END:DAYLIGHT
BEGIN:STANDARD
TZOFFSETFROM:-0500
TZOFFSETTO:-0600
TZNAME:CST
DTSTART:20261101T070000
END:STANDARD
END:VTIMEZONE
BEGIN:VEVENT
DTSTART;TZID=America/Chicago:20250128T180000
DTEND;TZID=America/Chicago:20250128T203000
DTSTAMP:20260424T184022
CREATED:20250113T222638Z
LAST-MODIFIED:20250113T222638Z
UID:11221-1738087200-1738096200@pine.edu
SUMMARY:Trivia Tuesday @ The REC
DESCRIPTION:Games begin at 6:00 pm\, starting January 28. \nUse your noodle not your google\, get a team together\, and join the fun for Trivia Tuesday! \n\nJan. 28\nFeb. 11\, 25\nMar. 4\, 18\nApr. 1\, 15\, 29\n\nFree snacks and soda while supplies last
URL:https://pine.edu/event/trivia-tuesday-the-rec/
LOCATION:The REC\, 510 2nd St. SE\, Pine City\, MN\, 55063\, United States
ORGANIZER;CN="Stacy O'Rourke":MAILTO:stacy.orourke@pine.edu
END:VEVENT
END:VCALENDAR