BEGIN:VCALENDAR
VERSION:2.0
PRODID:-//Pine Technical and Community College - ECPv6.15.20//NONSGML v1.0//EN
CALSCALE:GREGORIAN
METHOD:PUBLISH
X-ORIGINAL-URL:https://pine.edu
X-WR-CALDESC:Events for Pine Technical and Community College
REFRESH-INTERVAL;VALUE=DURATION:PT1H
X-Robots-Tag:noindex
X-PUBLISHED-TTL:PT1H
BEGIN:VTIMEZONE
TZID:America/Chicago
BEGIN:DAYLIGHT
TZOFFSETFROM:-0600
TZOFFSETTO:-0500
TZNAME:CDT
DTSTART:20240310T080000
END:DAYLIGHT
BEGIN:STANDARD
TZOFFSETFROM:-0500
TZOFFSETTO:-0600
TZNAME:CST
DTSTART:20241103T070000
END:STANDARD
BEGIN:DAYLIGHT
TZOFFSETFROM:-0600
TZOFFSETTO:-0500
TZNAME:CDT
DTSTART:20250309T080000
END:DAYLIGHT
BEGIN:STANDARD
TZOFFSETFROM:-0500
TZOFFSETTO:-0600
TZNAME:CST
DTSTART:20251102T070000
END:STANDARD
BEGIN:DAYLIGHT
TZOFFSETFROM:-0600
TZOFFSETTO:-0500
TZNAME:CDT
DTSTART:20260308T080000
END:DAYLIGHT
BEGIN:STANDARD
TZOFFSETFROM:-0500
TZOFFSETTO:-0600
TZNAME:CST
DTSTART:20261101T070000
END:STANDARD
END:VTIMEZONE
BEGIN:VEVENT
DTSTART;TZID=America/Chicago:20250131T110000
DTEND;TZID=America/Chicago:20250131T120000
DTSTAMP:20260424T153503
CREATED:20250113T223814Z
LAST-MODIFIED:20250113T223814Z
UID:11250-1738321200-1738324800@pine.edu
SUMMARY:Let's Talk S'more About It
DESCRIPTION:
URL:https://pine.edu/event/lets-talk-smore-about-it/
LOCATION:The Lodge
END:VEVENT
BEGIN:VEVENT
DTSTART;TZID=America/Chicago:20250131T120000
DTEND;TZID=America/Chicago:20250131T160000
DTSTAMP:20260424T153503
CREATED:20250113T223113Z
LAST-MODIFIED:20250113T223113Z
UID:11228-1738324800-1738339200@pine.edu
SUMMARY:Drop-In Advising
DESCRIPTION:Drop-in style advising and registration assistance available for PSEO students and incoming undergraduate students. \n\nJan. 17\, 9:00 AM-4:00 PM\nJan. 31\, 12:00 PM\nFeb. 28\, 1:00 PM-4:00 PM\nMar. 5\, 6\, 7; 9:00 AM-4:00 PM (Advising Week)\nMar. 21\, 28; 1:00 PM-4:00 PM\nApr. 4\, 11\, 18\, 25; 1:00 PM-4:00 PM\nMay 2\, 23; 1:00 PM-4:00 PM
URL:https://pine.edu/event/drop-in-advising-2/
LOCATION:The REC\, 510 2nd St. SE\, Pine City\, MN\, 55063\, United States
END:VEVENT
BEGIN:VEVENT
DTSTART;TZID=America/Chicago:20250131T120000
DTEND;TZID=America/Chicago:20250131T160000
DTSTAMP:20260424T153503
CREATED:20250114T185404Z
LAST-MODIFIED:20250114T185404Z
UID:11292-1738324800-1738339200@pine.edu
SUMMARY:PSEO Drop-In Advising
DESCRIPTION:
URL:https://pine.edu/event/pseo-drop-in-advising-3/
LOCATION:The REC\, 510 2nd St. SE\, Pine City\, MN\, 55063\, United States
ATTACH;FMTTYPE=image/png:https://pine.edu/wp-lib/wp-content/uploads/2025/01/PSEO-Dropin-Hours-Slider-January.png
END:VEVENT
END:VCALENDAR