BEGIN:VCALENDAR
VERSION:2.0
PRODID:-//Pine Technical and Community College - ECPv6.15.20//NONSGML v1.0//EN
CALSCALE:GREGORIAN
METHOD:PUBLISH
X-WR-CALNAME:Pine Technical and Community College
X-ORIGINAL-URL:https://pine.edu
X-WR-CALDESC:Events for Pine Technical and Community College
REFRESH-INTERVAL;VALUE=DURATION:PT1H
X-Robots-Tag:noindex
X-PUBLISHED-TTL:PT1H
BEGIN:VTIMEZONE
TZID:America/Chicago
BEGIN:DAYLIGHT
TZOFFSETFROM:-0600
TZOFFSETTO:-0500
TZNAME:CDT
DTSTART:20240310T080000
END:DAYLIGHT
BEGIN:STANDARD
TZOFFSETFROM:-0500
TZOFFSETTO:-0600
TZNAME:CST
DTSTART:20241103T070000
END:STANDARD
BEGIN:DAYLIGHT
TZOFFSETFROM:-0600
TZOFFSETTO:-0500
TZNAME:CDT
DTSTART:20250309T080000
END:DAYLIGHT
BEGIN:STANDARD
TZOFFSETFROM:-0500
TZOFFSETTO:-0600
TZNAME:CST
DTSTART:20251102T070000
END:STANDARD
BEGIN:DAYLIGHT
TZOFFSETFROM:-0600
TZOFFSETTO:-0500
TZNAME:CDT
DTSTART:20260308T080000
END:DAYLIGHT
BEGIN:STANDARD
TZOFFSETFROM:-0500
TZOFFSETTO:-0600
TZNAME:CST
DTSTART:20261101T070000
END:STANDARD
END:VTIMEZONE
BEGIN:VEVENT
DTSTART;TZID=America/Chicago:20250210T080000
DTEND;TZID=America/Chicago:20250214T170000
DTSTAMP:20260424T202836
CREATED:20250114T140934Z
LAST-MODIFIED:20250114T141015Z
UID:11252-1739174400-1739552400@pine.edu
SUMMARY:Valentines Events
DESCRIPTION:Love Stinks\,  Feb. 14\, All Day\nDIY Card making\, Feb. 10-14\, All Day\nSpeed Friending\,  Feb. 20\, 3:00-4:00 PM
URL:https://pine.edu/event/valentines-events/
LOCATION:The REC\, 510 2nd St. SE\, Pine City\, MN\, 55063\, United States
CATEGORIES:The REC
ORGANIZER;CN="Stacy O'Rourke":MAILTO:stacy.orourke@pine.edu
END:VEVENT
BEGIN:VEVENT
DTSTART;TZID=America/Chicago:20250211T180000
DTEND;TZID=America/Chicago:20250211T190000
DTSTAMP:20260424T202836
CREATED:20250122T223500Z
LAST-MODIFIED:20250122T223500Z
UID:11545-1739296800-1739300400@pine.edu
SUMMARY:Trivia Tuesday
DESCRIPTION:GAMES BEGIN AT 6:00 PM\, STARTING JAN. 28 \nUse your noodle not your google. Get a team together\, and join the fun for Trivia Tuesday! \n\nJan. 28\nFeb. 11\, 25\nMar. 4\, 18\nApr. 1\, 15\, 29\n\nFree snacks and soda while supplies last
URL:https://pine.edu/event/trivia-tuesday/
LOCATION:The REC\, 510 2nd St. SE\, Pine City\, MN\, 55063\, United States
CATEGORIES:The REC
ORGANIZER;CN="Stacy O'Rourke":MAILTO:stacy.orourke@pine.edu
END:VEVENT
END:VCALENDAR