BEGIN:VCALENDAR
VERSION:2.0
PRODID:-//Pine Technical and Community College - ECPv6.15.20//NONSGML v1.0//EN
CALSCALE:GREGORIAN
METHOD:PUBLISH
X-WR-CALNAME:Pine Technical and Community College
X-ORIGINAL-URL:https://pine.edu
X-WR-CALDESC:Events for Pine Technical and Community College
REFRESH-INTERVAL;VALUE=DURATION:PT1H
X-Robots-Tag:noindex
X-PUBLISHED-TTL:PT1H
BEGIN:VTIMEZONE
TZID:America/Chicago
BEGIN:DAYLIGHT
TZOFFSETFROM:-0600
TZOFFSETTO:-0500
TZNAME:CDT
DTSTART:20240310T080000
END:DAYLIGHT
BEGIN:STANDARD
TZOFFSETFROM:-0500
TZOFFSETTO:-0600
TZNAME:CST
DTSTART:20241103T070000
END:STANDARD
BEGIN:DAYLIGHT
TZOFFSETFROM:-0600
TZOFFSETTO:-0500
TZNAME:CDT
DTSTART:20250309T080000
END:DAYLIGHT
BEGIN:STANDARD
TZOFFSETFROM:-0500
TZOFFSETTO:-0600
TZNAME:CST
DTSTART:20251102T070000
END:STANDARD
BEGIN:DAYLIGHT
TZOFFSETFROM:-0600
TZOFFSETTO:-0500
TZNAME:CDT
DTSTART:20260308T080000
END:DAYLIGHT
BEGIN:STANDARD
TZOFFSETFROM:-0500
TZOFFSETTO:-0600
TZNAME:CST
DTSTART:20261101T070000
END:STANDARD
END:VTIMEZONE
BEGIN:VEVENT
DTSTART;TZID=America/Chicago:20250210T080000
DTEND;TZID=America/Chicago:20250214T170000
DTSTAMP:20260424T171703
CREATED:20250114T140934Z
LAST-MODIFIED:20250114T141015Z
UID:11252-1739174400-1739552400@pine.edu
SUMMARY:Valentines Events
DESCRIPTION:Love Stinks\,  Feb. 14\, All Day\nDIY Card making\, Feb. 10-14\, All Day\nSpeed Friending\,  Feb. 20\, 3:00-4:00 PM
URL:https://pine.edu/event/valentines-events/
LOCATION:The REC\, 510 2nd St. SE\, Pine City\, MN\, 55063\, United States
CATEGORIES:The REC
ORGANIZER;CN="Stacy O'Rourke":MAILTO:stacy.orourke@pine.edu
END:VEVENT
BEGIN:VEVENT
DTSTART;TZID=America/Chicago:20250212T110000
DTEND;TZID=America/Chicago:20250212T130000
DTSTAMP:20260424T171703
CREATED:20250114T194225Z
LAST-MODIFIED:20250114T194225Z
UID:11338-1739358000-1739365200@pine.edu
SUMMARY:Title IX Event: Tea and Consent
DESCRIPTION:
URL:https://pine.edu/event/title-ix-event-tea-and-consent/
LOCATION:The Lodge
END:VEVENT
BEGIN:VEVENT
DTSTART;TZID=America/Chicago:20250212T160000
DTEND;TZID=America/Chicago:20250212T170000
DTSTAMP:20260424T171703
CREATED:20250122T224116Z
LAST-MODIFIED:20250122T224124Z
UID:11561-1739376000-1739379600@pine.edu
SUMMARY:Board Game Club
DESCRIPTION:No experience is necessary. Come for the games\, stay for the friendships! \nGames change week to week.
URL:https://pine.edu/event/board-game-club-2/
LOCATION:The REC\, 510 2nd St. SE\, Pine City\, MN\, 55063\, United States
CATEGORIES:The REC
ORGANIZER;CN="Stacy O'Rourke":MAILTO:stacy.orourke@pine.edu
END:VEVENT
END:VCALENDAR