BEGIN:VCALENDAR
VERSION:2.0
PRODID:-//Pine Technical and Community College - ECPv6.15.20//NONSGML v1.0//EN
CALSCALE:GREGORIAN
METHOD:PUBLISH
X-WR-CALNAME:Pine Technical and Community College
X-ORIGINAL-URL:https://pine.edu
X-WR-CALDESC:Events for Pine Technical and Community College
REFRESH-INTERVAL;VALUE=DURATION:PT1H
X-Robots-Tag:noindex
X-PUBLISHED-TTL:PT1H
BEGIN:VTIMEZONE
TZID:America/Chicago
BEGIN:DAYLIGHT
TZOFFSETFROM:-0600
TZOFFSETTO:-0500
TZNAME:CDT
DTSTART:20240310T080000
END:DAYLIGHT
BEGIN:STANDARD
TZOFFSETFROM:-0500
TZOFFSETTO:-0600
TZNAME:CST
DTSTART:20241103T070000
END:STANDARD
BEGIN:DAYLIGHT
TZOFFSETFROM:-0600
TZOFFSETTO:-0500
TZNAME:CDT
DTSTART:20250309T080000
END:DAYLIGHT
BEGIN:STANDARD
TZOFFSETFROM:-0500
TZOFFSETTO:-0600
TZNAME:CST
DTSTART:20251102T070000
END:STANDARD
BEGIN:DAYLIGHT
TZOFFSETFROM:-0600
TZOFFSETTO:-0500
TZNAME:CDT
DTSTART:20260308T080000
END:DAYLIGHT
BEGIN:STANDARD
TZOFFSETFROM:-0500
TZOFFSETTO:-0600
TZNAME:CST
DTSTART:20261101T070000
END:STANDARD
END:VTIMEZONE
BEGIN:VEVENT
DTSTART;TZID=America/Chicago:20250316T080000
DTEND;TZID=America/Chicago:20250407T170000
DTSTAMP:20260424T171043
CREATED:20250114T213800Z
LAST-MODIFIED:20250114T213814Z
UID:11410-1742112000-1744045200@pine.edu
SUMMARY:March Madness Tourney
DESCRIPTION:Join us at The REC to watch the March Madness basketball tournament.
URL:https://pine.edu/event/march-madness-tourney/
LOCATION:The REC\, 510 2nd St. SE\, Pine City\, MN\, 55063\, United States
ORGANIZER;CN="Stacy O'Rourke":MAILTO:stacy.orourke@pine.edu
END:VEVENT
BEGIN:VEVENT
DTSTART;VALUE=DATE:20250317
DTEND;VALUE=DATE:20250319
DTSTAMP:20260424T171043
CREATED:20250114T190424Z
LAST-MODIFIED:20250114T190424Z
UID:11312-1742176800-1742263199@pine.edu
SUMMARY:Fall Registration Opens for Continuing Students and Veterans
DESCRIPTION:
URL:https://pine.edu/event/fall-registration-opens-for-continuing-students-and-veterans/
END:VEVENT
BEGIN:VEVENT
DTSTART;TZID=America/Chicago:20250317T110000
DTEND;TZID=America/Chicago:20250317T113000
DTSTAMP:20260424T171043
CREATED:20250114T195650Z
LAST-MODIFIED:20250114T195650Z
UID:11366-1742209200-1742211000@pine.edu
SUMMARY:Health U: Testing Anxiety
DESCRIPTION:Online Event.
URL:https://pine.edu/event/health-u-testing-anxiety/
END:VEVENT
BEGIN:VEVENT
DTSTART;TZID=America/Chicago:20250317T110000
DTEND;TZID=America/Chicago:20250317T130000
DTSTAMP:20260424T171043
CREATED:20250114T141211Z
LAST-MODIFIED:20250114T141211Z
UID:11254-1742209200-1742216400@pine.edu
SUMMARY:Totcho Bar at The REC
DESCRIPTION:Join us for a Totcho Bar! Totchos are nachos made with tots & lots of toppings. Available until gone.
URL:https://pine.edu/event/totcho-bar-at-the-rec/
LOCATION:The REC\, 510 2nd St. SE\, Pine City\, MN\, 55063\, United States
CATEGORIES:The REC
ORGANIZER;CN="Stacy O'Rourke":MAILTO:stacy.orourke@pine.edu
END:VEVENT
BEGIN:VEVENT
DTSTART;TZID=America/Chicago:20250317T160000
DTEND;TZID=America/Chicago:20250317T170000
DTSTAMP:20260424T171043
CREATED:20250122T223132Z
LAST-MODIFIED:20250122T223132Z
UID:11537-1742227200-1742230800@pine.edu
SUMMARY:Walking/Running Club
DESCRIPTION:MONDAYS AT 4:00 PM – MEET AT THE REC – STARTING MARCH 3 \nPrepare for the first PTCC 5K by participating in the PTCC walking/running club! \n\nWeek 1 – March 3\nWeek 2 – March 17\nWeek 3 – March 31\nWeek 4 – April 14\nApril 25 – 5K Event
URL:https://pine.edu/event/walking-running-club-2/
LOCATION:The REC\, 510 2nd St. SE\, Pine City\, MN\, 55063\, United States
CATEGORIES:The REC
ORGANIZER;CN="Stacy O'Rourke":MAILTO:stacy.orourke@pine.edu
END:VEVENT
END:VCALENDAR