BEGIN:VCALENDAR
VERSION:2.0
PRODID:-//Pine Technical and Community College - ECPv6.15.20//NONSGML v1.0//EN
CALSCALE:GREGORIAN
METHOD:PUBLISH
X-ORIGINAL-URL:https://pine.edu
X-WR-CALDESC:Events for Pine Technical and Community College
REFRESH-INTERVAL;VALUE=DURATION:PT1H
X-Robots-Tag:noindex
X-PUBLISHED-TTL:PT1H
BEGIN:VTIMEZONE
TZID:America/Chicago
BEGIN:DAYLIGHT
TZOFFSETFROM:-0600
TZOFFSETTO:-0500
TZNAME:CDT
DTSTART:20240310T080000
END:DAYLIGHT
BEGIN:STANDARD
TZOFFSETFROM:-0500
TZOFFSETTO:-0600
TZNAME:CST
DTSTART:20241103T070000
END:STANDARD
BEGIN:DAYLIGHT
TZOFFSETFROM:-0600
TZOFFSETTO:-0500
TZNAME:CDT
DTSTART:20250309T080000
END:DAYLIGHT
BEGIN:STANDARD
TZOFFSETFROM:-0500
TZOFFSETTO:-0600
TZNAME:CST
DTSTART:20251102T070000
END:STANDARD
BEGIN:DAYLIGHT
TZOFFSETFROM:-0600
TZOFFSETTO:-0500
TZNAME:CDT
DTSTART:20260308T080000
END:DAYLIGHT
BEGIN:STANDARD
TZOFFSETFROM:-0500
TZOFFSETTO:-0600
TZNAME:CST
DTSTART:20261101T070000
END:STANDARD
END:VTIMEZONE
BEGIN:VEVENT
DTSTART;TZID=America/Chicago:20250316T080000
DTEND;TZID=America/Chicago:20250407T170000
DTSTAMP:20260424T203030
CREATED:20250114T213800Z
LAST-MODIFIED:20250114T213814Z
UID:11410-1742112000-1744045200@pine.edu
SUMMARY:March Madness Tourney
DESCRIPTION:Join us at The REC to watch the March Madness basketball tournament.
URL:https://pine.edu/event/march-madness-tourney/
LOCATION:The REC\, 510 2nd St. SE\, Pine City\, MN\, 55063\, United States
ORGANIZER;CN="Stacy O'Rourke":MAILTO:stacy.orourke@pine.edu
END:VEVENT
BEGIN:VEVENT
DTSTART;TZID=America/Chicago:20250326T110000
DTEND;TZID=America/Chicago:20250326T120000
DTSTAMP:20260424T203030
CREATED:20250114T190525Z
LAST-MODIFIED:20250114T190525Z
UID:11316-1742986800-1742990400@pine.edu
SUMMARY:Frandsen/Kick Start/PCCI Scholarship Check-In
DESCRIPTION:
URL:https://pine.edu/event/frandsen-kick-start-pcci-scholarship-check-in-2/
LOCATION:Pine Technical and Community College\, 900 4th St. Se\, Pine City\, MN\, 55063\, United States
END:VEVENT
BEGIN:VEVENT
DTSTART;TZID=America/Chicago:20250326T160000
DTEND;TZID=America/Chicago:20250326T170000
DTSTAMP:20260424T203030
CREATED:20250122T224500Z
LAST-MODIFIED:20250122T224500Z
UID:11573-1743004800-1743008400@pine.edu
SUMMARY:Board Game Club
DESCRIPTION:No experience is necessary. Come for the games\, stay for the friendships! \nGames change week to week.
URL:https://pine.edu/event/board-game-club-8/
LOCATION:The REC\, 510 2nd St. SE\, Pine City\, MN\, 55063\, United States
CATEGORIES:The REC
ORGANIZER;CN="Stacy O'Rourke":MAILTO:stacy.orourke@pine.edu
END:VEVENT
END:VCALENDAR