BEGIN:VCALENDAR
VERSION:2.0
PRODID:-//Pine Technical and Community College - ECPv6.15.20//NONSGML v1.0//EN
CALSCALE:GREGORIAN
METHOD:PUBLISH
X-ORIGINAL-URL:https://pine.edu
X-WR-CALDESC:Events for Pine Technical and Community College
REFRESH-INTERVAL;VALUE=DURATION:PT1H
X-Robots-Tag:noindex
X-PUBLISHED-TTL:PT1H
BEGIN:VTIMEZONE
TZID:America/Chicago
BEGIN:DAYLIGHT
TZOFFSETFROM:-0600
TZOFFSETTO:-0500
TZNAME:CDT
DTSTART:20240310T080000
END:DAYLIGHT
BEGIN:STANDARD
TZOFFSETFROM:-0500
TZOFFSETTO:-0600
TZNAME:CST
DTSTART:20241103T070000
END:STANDARD
BEGIN:DAYLIGHT
TZOFFSETFROM:-0600
TZOFFSETTO:-0500
TZNAME:CDT
DTSTART:20250309T080000
END:DAYLIGHT
BEGIN:STANDARD
TZOFFSETFROM:-0500
TZOFFSETTO:-0600
TZNAME:CST
DTSTART:20251102T070000
END:STANDARD
BEGIN:DAYLIGHT
TZOFFSETFROM:-0600
TZOFFSETTO:-0500
TZNAME:CDT
DTSTART:20260308T080000
END:DAYLIGHT
BEGIN:STANDARD
TZOFFSETFROM:-0500
TZOFFSETTO:-0600
TZNAME:CST
DTSTART:20261101T070000
END:STANDARD
END:VTIMEZONE
BEGIN:VEVENT
DTSTART;TZID=America/Chicago:20250316T080000
DTEND;TZID=America/Chicago:20250407T170000
DTSTAMP:20260424T153441
CREATED:20250114T213800Z
LAST-MODIFIED:20250114T213814Z
UID:11410-1742112000-1744045200@pine.edu
SUMMARY:March Madness Tourney
DESCRIPTION:Join us at The REC to watch the March Madness basketball tournament.
URL:https://pine.edu/event/march-madness-tourney/
LOCATION:The REC\, 510 2nd St. SE\, Pine City\, MN\, 55063\, United States
ORGANIZER;CN="Stacy O'Rourke":MAILTO:stacy.orourke@pine.edu
END:VEVENT
BEGIN:VEVENT
DTSTART;VALUE=DATE:20250328
DTEND;VALUE=DATE:20250330
DTSTAMP:20260424T153441
CREATED:20250114T190551Z
LAST-MODIFIED:20250114T190551Z
UID:11318-1743127200-1743213599@pine.edu
SUMMARY:No Classes: Campus Conversation Day
DESCRIPTION:
URL:https://pine.edu/event/no-classes-campus-conversation-day/
END:VEVENT
BEGIN:VEVENT
DTSTART;TZID=America/Chicago:20250328T130000
DTEND;TZID=America/Chicago:20250328T160000
DTSTAMP:20260424T153441
CREATED:20250114T185550Z
LAST-MODIFIED:20250114T185550Z
UID:11298-1743166800-1743177600@pine.edu
SUMMARY:PSEO Drop-In Advising
DESCRIPTION:
URL:https://pine.edu/event/pseo-drop-in-advising-6/
LOCATION:The REC\, 510 2nd St. SE\, Pine City\, MN\, 55063\, United States
END:VEVENT
BEGIN:VEVENT
DTSTART;TZID=America/Chicago:20250328T130000
DTEND;TZID=America/Chicago:20250328T160000
DTSTAMP:20260424T153441
CREATED:20250123T202732Z
LAST-MODIFIED:20250123T202732Z
UID:11611-1743166800-1743177600@pine.edu
SUMMARY:Drop-In Advising
DESCRIPTION:VARYING DATES AND TIMES (SEE BELOW) \nDrop-in style advising and registration assistance available for PSEO students and incoming undergraduate students. \n\nJan. 17; 9:00 AM-4:00 PM\nJan. 31; 12:00 PM\nFeb. 28; 1:00 PM-4:00 PM\nAdvising Week; Mar. 5\, 6\, 7; 9:00 AM-4:00 PM\nMar. 21\, 28; 1:00 PM-4:00 PM\nApr. 4\, 11\, 18\, 25; 1:00 PM-4:00 PM\nMay 2\, 23; 1:00 PM-4:00 PM
URL:https://pine.edu/event/drop-in-advising-8/
LOCATION:The REC\, 510 2nd St. SE\, Pine City\, MN\, 55063\, United States
CATEGORIES:The REC
END:VEVENT
END:VCALENDAR