BEGIN:VCALENDAR
VERSION:2.0
PRODID:-//Pine Technical and Community College - ECPv6.15.20//NONSGML v1.0//EN
CALSCALE:GREGORIAN
METHOD:PUBLISH
X-WR-CALNAME:Pine Technical and Community College
X-ORIGINAL-URL:https://pine.edu
X-WR-CALDESC:Events for Pine Technical and Community College
REFRESH-INTERVAL;VALUE=DURATION:PT1H
X-Robots-Tag:noindex
X-PUBLISHED-TTL:PT1H
BEGIN:VTIMEZONE
TZID:America/Chicago
BEGIN:DAYLIGHT
TZOFFSETFROM:-0600
TZOFFSETTO:-0500
TZNAME:CDT
DTSTART:20240310T080000
END:DAYLIGHT
BEGIN:STANDARD
TZOFFSETFROM:-0500
TZOFFSETTO:-0600
TZNAME:CST
DTSTART:20241103T070000
END:STANDARD
BEGIN:DAYLIGHT
TZOFFSETFROM:-0600
TZOFFSETTO:-0500
TZNAME:CDT
DTSTART:20250309T080000
END:DAYLIGHT
BEGIN:STANDARD
TZOFFSETFROM:-0500
TZOFFSETTO:-0600
TZNAME:CST
DTSTART:20251102T070000
END:STANDARD
BEGIN:DAYLIGHT
TZOFFSETFROM:-0600
TZOFFSETTO:-0500
TZNAME:CDT
DTSTART:20260308T080000
END:DAYLIGHT
BEGIN:STANDARD
TZOFFSETFROM:-0500
TZOFFSETTO:-0600
TZNAME:CST
DTSTART:20261101T070000
END:STANDARD
END:VTIMEZONE
BEGIN:VEVENT
DTSTART;VALUE=DATE:20250428
DTEND;VALUE=DATE:20250504
DTSTAMP:20260425T072425
CREATED:20250114T202941Z
LAST-MODIFIED:20250114T202941Z
UID:11398-1745805600-1746237599@pine.edu
SUMMARY:De-Stress Fest
DESCRIPTION:
URL:https://pine.edu/event/de-stress-fest/
END:VEVENT
BEGIN:VEVENT
DTSTART;TZID=America/Chicago:20250430T100000
DTEND;TZID=America/Chicago:20250430T110000
DTSTAMP:20260425T072425
CREATED:20250114T203018Z
LAST-MODIFIED:20250114T203018Z
UID:11400-1746007200-1746010800@pine.edu
SUMMARY:Phi Theta Kappa Induction Ceremony
DESCRIPTION:
URL:https://pine.edu/event/phi-theta-kappa-induction-ceremony/
LOCATION:The Lodge
END:VEVENT
BEGIN:VEVENT
DTSTART;TZID=America/Chicago:20250430T110000
DTEND;TZID=America/Chicago:20250430T130000
DTSTAMP:20260425T072425
CREATED:20250114T203052Z
LAST-MODIFIED:20250114T203052Z
UID:11402-1746010800-1746018000@pine.edu
SUMMARY:Music In The Lodge
DESCRIPTION:
URL:https://pine.edu/event/music-in-the-lodge-3/
LOCATION:The Lodge
END:VEVENT
BEGIN:VEVENT
DTSTART;TZID=America/Chicago:20250430T120000
DTEND;TZID=America/Chicago:20250430T140000
DTSTAMP:20260425T072425
CREATED:20250114T184319Z
LAST-MODIFIED:20250114T184319Z
UID:11281-1746014400-1746021600@pine.edu
SUMMARY:Mobile Food Pantry
DESCRIPTION:
URL:https://pine.edu/event/mobile-food-pantry-8/
LOCATION:Pine Technical and Community College\, 900 4th St. Se\, Pine City\, MN\, 55063\, United States
ATTACH;FMTTYPE=image/jpeg:https://pine.edu/wp-lib/wp-content/uploads/2025/01/Mobile-Food-Pantry-monitor-image-1920-x-1080_11.21.24-scaled.jpg
END:VEVENT
BEGIN:VEVENT
DTSTART;TZID=America/Chicago:20250430T160000
DTEND;TZID=America/Chicago:20250430T170000
DTSTAMP:20260425T072425
CREATED:20250122T224836Z
LAST-MODIFIED:20250122T224836Z
UID:11583-1746028800-1746032400@pine.edu
SUMMARY:Board Game Club
DESCRIPTION:No experience is necessary. Come for the games\, stay for the friendships! \nGames change week to week.
URL:https://pine.edu/event/board-game-club-13/
LOCATION:The REC\, 510 2nd St. SE\, Pine City\, MN\, 55063\, United States
CATEGORIES:The REC
ORGANIZER;CN="Stacy O'Rourke":MAILTO:stacy.orourke@pine.edu
END:VEVENT
END:VCALENDAR