BEGIN:VCALENDAR
VERSION:2.0
PRODID:-//Pine Technical and Community College - ECPv6.15.20//NONSGML v1.0//EN
CALSCALE:GREGORIAN
METHOD:PUBLISH
X-ORIGINAL-URL:https://pine.edu
X-WR-CALDESC:Events for Pine Technical and Community College
REFRESH-INTERVAL;VALUE=DURATION:PT1H
X-Robots-Tag:noindex
X-PUBLISHED-TTL:PT1H
BEGIN:VTIMEZONE
TZID:America/Chicago
BEGIN:DAYLIGHT
TZOFFSETFROM:-0600
TZOFFSETTO:-0500
TZNAME:CDT
DTSTART:20250309T080000
END:DAYLIGHT
BEGIN:STANDARD
TZOFFSETFROM:-0500
TZOFFSETTO:-0600
TZNAME:CST
DTSTART:20251102T070000
END:STANDARD
BEGIN:DAYLIGHT
TZOFFSETFROM:-0600
TZOFFSETTO:-0500
TZNAME:CDT
DTSTART:20260308T080000
END:DAYLIGHT
BEGIN:STANDARD
TZOFFSETFROM:-0500
TZOFFSETTO:-0600
TZNAME:CST
DTSTART:20261101T070000
END:STANDARD
BEGIN:DAYLIGHT
TZOFFSETFROM:-0600
TZOFFSETTO:-0500
TZNAME:CDT
DTSTART:20270314T080000
END:DAYLIGHT
BEGIN:STANDARD
TZOFFSETFROM:-0500
TZOFFSETTO:-0600
TZNAME:CST
DTSTART:20271107T070000
END:STANDARD
END:VTIMEZONE
BEGIN:VEVENT
DTSTART;TZID=America/Chicago:20260422T150000
DTEND;TZID=America/Chicago:20260422T163000
DTSTAMP:20260425T072414
CREATED:20260325T195142Z
LAST-MODIFIED:20260325T195142Z
UID:14243-1776870000-1776875400@pine.edu
SUMMARY:Nursing Drop-In Session
DESCRIPTION:Drop-in for Practical and Associate Degree (RN) nursing program information and application assistance.
URL:https://pine.edu/event/nursing-drop-in-session-2/
LOCATION:Room 50
END:VEVENT
BEGIN:VEVENT
DTSTART;TZID=America/Chicago:20260424T150000
DTEND;TZID=America/Chicago:20260424T163000
DTSTAMP:20260425T072414
CREATED:20260313T130918Z
LAST-MODIFIED:20260313T130918Z
UID:14123-1777042800-1777048200@pine.edu
SUMMARY:Nursing Drop-In Session
DESCRIPTION:Drop-in for PN & AD Nursing program info & application help!\nGet details on program and clinical requirements\, and receive guidance\non the application process—no appointment needed.\nOn-campus\, room 50\nApril 22 at 3-4:30 p.m.\nApril 24 at 3-4:30 p.m.
URL:https://pine.edu/event/nursing-drop-in-session/
LOCATION:Room 50
END:VEVENT
BEGIN:VEVENT
DTSTART;TZID=America/Chicago:20260424T150000
DTEND;TZID=America/Chicago:20260424T163000
DTSTAMP:20260425T072414
CREATED:20260325T195217Z
LAST-MODIFIED:20260325T195217Z
UID:14245-1777042800-1777048200@pine.edu
SUMMARY:Nursing Drop-In Session
DESCRIPTION:Drop-in for Practical and Associate Degree (RN) nursing program information and application assistance.
URL:https://pine.edu/event/nursing-drop-in-session-3/
LOCATION:Room 50
END:VEVENT
BEGIN:VEVENT
DTSTART;TZID=America/Chicago:20260430T180000
DTEND;TZID=America/Chicago:20260430T220000
DTSTAMP:20260425T072414
CREATED:20260115T220004Z
LAST-MODIFIED:20260115T220004Z
UID:13846-1777572000-1777586400@pine.edu
SUMMARY:Spring Formal
DESCRIPTION:
URL:https://pine.edu/event/spring-formal/
LOCATION:The REC\, 510 2nd St. SE\, Pine City\, MN\, 55063\, United States
CATEGORIES:The REC
ORGANIZER;CN="Stacy O'Rourke":MAILTO:stacy.orourke@pine.edu
END:VEVENT
BEGIN:VEVENT
DTSTART;VALUE=DATE:20260508
DTEND;VALUE=DATE:20260516
DTSTAMP:20260425T072414
CREATED:20250915T171636Z
LAST-MODIFIED:20250915T171636Z
UID:13274-1778205600-1778810399@pine.edu
SUMMARY:Final Exam Week
DESCRIPTION:
URL:https://pine.edu/event/final-exam-week-4/
LOCATION:MN
END:VEVENT
BEGIN:VEVENT
DTSTART;VALUE=DATE:20260514
DTEND;VALUE=DATE:20260516
DTSTAMP:20260425T072414
CREATED:20250915T171705Z
LAST-MODIFIED:20250915T171705Z
UID:13276-1778724000-1778810399@pine.edu
SUMMARY:Last Day of Classes
DESCRIPTION:
URL:https://pine.edu/event/last-day-of-classes-2/
LOCATION:MN
END:VEVENT
BEGIN:VEVENT
DTSTART;VALUE=DATE:20260515
DTEND;VALUE=DATE:20260517
DTSTAMP:20260425T072414
CREATED:20250915T171736Z
LAST-MODIFIED:20260326T141934Z
UID:13278-1778810400-1778896799@pine.edu
SUMMARY:No Classes: Commencement and Faculty Contract Day
DESCRIPTION:Friday\, May 15\, 2026\nPine City High School\, 1400 Main Street South\, Pine City\, MN 55063 \n\n4:30pm – Commencement for all programs\, except Practical and Associate Degree Nursing\n6:30pm – Commencement and Pinning Ceremony for Practical and Associate Degree Nursing\n\nFor more information\, visit Graduation and Commencement.
URL:https://pine.edu/event/no-classes-commencement-and-faculty-contract-day/
LOCATION:MN
END:VEVENT
BEGIN:VEVENT
DTSTART;VALUE=DATE:20260601
DTEND;VALUE=DATE:20260603
DTSTAMP:20260425T072414
CREATED:20250915T171803Z
LAST-MODIFIED:20250915T171803Z
UID:13280-1780279200-1780365599@pine.edu
SUMMARY:Summer Session Begins
DESCRIPTION:
URL:https://pine.edu/event/summer-session-begins/
LOCATION:MN
END:VEVENT
BEGIN:VEVENT
DTSTART;VALUE=DATE:20260619
DTEND;VALUE=DATE:20260621
DTSTAMP:20260425T072414
CREATED:20250915T171832Z
LAST-MODIFIED:20250915T171832Z
UID:13282-1781834400-1781920799@pine.edu
SUMMARY:Campus Closed: Juneteenth
DESCRIPTION:
URL:https://pine.edu/event/campus-closed-juneteenth/
LOCATION:MN
END:VEVENT
BEGIN:VEVENT
DTSTART;VALUE=DATE:20260703
DTEND;VALUE=DATE:20260705
DTSTAMP:20260425T072414
CREATED:20250915T171902Z
LAST-MODIFIED:20250915T171902Z
UID:13284-1783044000-1783130399@pine.edu
SUMMARY:Campus Closed: Independence Day Observed
DESCRIPTION:
URL:https://pine.edu/event/campus-closed-independence-day-observed/
LOCATION:MN
END:VEVENT
BEGIN:VEVENT
DTSTART;VALUE=DATE:20260725
DTEND;VALUE=DATE:20260727
DTSTAMP:20260425T072414
CREATED:20250915T171931Z
LAST-MODIFIED:20250915T171931Z
UID:13286-1784944800-1785031199@pine.edu
SUMMARY:Last Day of Summer Session
DESCRIPTION:
URL:https://pine.edu/event/last-day-of-summer-session/
LOCATION:MN
END:VEVENT
END:VCALENDAR