BEGIN:VCALENDAR
VERSION:2.0
PRODID:-//Pine Technical and Community College - ECPv6.15.20//NONSGML v1.0//EN
CALSCALE:GREGORIAN
METHOD:PUBLISH
X-WR-CALNAME:Pine Technical and Community College
X-ORIGINAL-URL:https://pine.edu
X-WR-CALDESC:Events for Pine Technical and Community College
REFRESH-INTERVAL;VALUE=DURATION:PT1H
X-Robots-Tag:noindex
X-PUBLISHED-TTL:PT1H
BEGIN:VTIMEZONE
TZID:America/Chicago
BEGIN:DAYLIGHT
TZOFFSETFROM:-0600
TZOFFSETTO:-0500
TZNAME:CDT
DTSTART:20240310T080000
END:DAYLIGHT
BEGIN:STANDARD
TZOFFSETFROM:-0500
TZOFFSETTO:-0600
TZNAME:CST
DTSTART:20241103T070000
END:STANDARD
BEGIN:DAYLIGHT
TZOFFSETFROM:-0600
TZOFFSETTO:-0500
TZNAME:CDT
DTSTART:20250309T080000
END:DAYLIGHT
BEGIN:STANDARD
TZOFFSETFROM:-0500
TZOFFSETTO:-0600
TZNAME:CST
DTSTART:20251102T070000
END:STANDARD
BEGIN:DAYLIGHT
TZOFFSETFROM:-0600
TZOFFSETTO:-0500
TZNAME:CDT
DTSTART:20260308T080000
END:DAYLIGHT
BEGIN:STANDARD
TZOFFSETFROM:-0500
TZOFFSETTO:-0600
TZNAME:CST
DTSTART:20261101T070000
END:STANDARD
END:VTIMEZONE
BEGIN:VEVENT
DTSTART;TZID=America/Chicago:20250122T110000
DTEND;TZID=America/Chicago:20250122T130000
DTSTAMP:20260425T090931
CREATED:20250113T223550Z
LAST-MODIFIED:20250113T223550Z
UID:11242-1737543600-1737550800@pine.edu
SUMMARY:Music w/ Matt and Laurel
DESCRIPTION:
URL:https://pine.edu/event/music-w-matt-and-laurel/
LOCATION:The Lodge
END:VEVENT
BEGIN:VEVENT
DTSTART;TZID=America/Chicago:20250122T110000
DTEND;TZID=America/Chicago:20250122T120000
DTSTAMP:20260425T090931
CREATED:20250113T223625Z
LAST-MODIFIED:20250113T223625Z
UID:11244-1737543600-1737547200@pine.edu
SUMMARY:Student Senate Meeting
DESCRIPTION:
URL:https://pine.edu/event/student-senate-meeting-2/
LOCATION:Auditorium
END:VEVENT
BEGIN:VEVENT
DTSTART;TZID=America/Chicago:20250121T110000
DTEND;TZID=America/Chicago:20250121T130000
DTSTAMP:20260425T090931
CREATED:20250114T221005Z
LAST-MODIFIED:20250114T221005Z
UID:11419-1737457200-1737464400@pine.edu
SUMMARY:Nursing Program Information Sessions
DESCRIPTION:
URL:https://pine.edu/event/nursing-program-information-sessions/
LOCATION:Auditorium
ATTACH;FMTTYPE=image/jpeg:https://pine.edu/wp-lib/wp-content/uploads/2025/01/Nursing-Information-Sessions-Spring-2025-campus-monitor-scaled.jpg
END:VEVENT
BEGIN:VEVENT
DTSTART;VALUE=DATE:20250120
DTEND;VALUE=DATE:20250122
DTSTAMP:20260425T090931
CREATED:20250113T223159Z
LAST-MODIFIED:20250113T223159Z
UID:11230-1737338400-1737424799@pine.edu
SUMMARY:Campus Closed - Marting Luther King Jr. Day
DESCRIPTION:
URL:https://pine.edu/event/campus-closed-marting-luther-king-jr-day/
LOCATION:MN
END:VEVENT
BEGIN:VEVENT
DTSTART;TZID=America/Chicago:20250117T090000
DTEND;TZID=America/Chicago:20250117T160000
DTSTAMP:20260425T090931
CREATED:20250114T185325Z
LAST-MODIFIED:20250114T185325Z
UID:11290-1737104400-1737129600@pine.edu
SUMMARY:PSEO Drop-In Advising
DESCRIPTION:
URL:https://pine.edu/event/pseo-drop-in-advising-2/
LOCATION:The REC\, 510 2nd St. SE\, Pine City\, MN\, 55063\, United States
ATTACH;FMTTYPE=image/png:https://pine.edu/wp-lib/wp-content/uploads/2025/01/PSEO-Dropin-Hours-Slider-January.png
END:VEVENT
BEGIN:VEVENT
DTSTART;TZID=America/Chicago:20250117T090000
DTEND;TZID=America/Chicago:20250117T160000
DTSTAMP:20260425T090931
CREATED:20250113T223009Z
LAST-MODIFIED:20250113T223029Z
UID:11225-1737104400-1737129600@pine.edu
SUMMARY:Drop-In Advising
DESCRIPTION:PDrop-in style advising and registration assistance available for PSEO students and incoming undergraduate students. \n\nJan. 17\, 9:00 AM-4:00 PM\nJan. 31\, 12:00 PM-4:00 PM\nFeb. 28\, 1:00 PM-4:00 PM\nMar. 5\, 6\, 7; 9:00 AM-4:00 PM (Advising Week)\nMar. 21\, 28; 1:00 PM-4:00 PM\nApr. 4\, 11\, 18\, 25; 1:00 PM-4:00 PM\nMay 2\, 23; 1:00 PM-4:00 PM
URL:https://pine.edu/event/drop-in-advising/
LOCATION:The REC\, 510 2nd St. SE\, Pine City\, MN\, 55063\, United States
END:VEVENT
BEGIN:VEVENT
DTSTART;VALUE=DATE:20250117
DTEND;VALUE=DATE:20250119
DTSTAMP:20260425T090931
CREATED:20250113T223319Z
LAST-MODIFIED:20250113T223319Z
UID:11236-1737079200-1737165599@pine.edu
SUMMARY:Last Day to Charge Financial Aid for Books and Supplies
DESCRIPTION:
URL:https://pine.edu/event/last-day-to-charge-financial-aid-for-books-and-supplies/
LOCATION:MN
END:VEVENT
BEGIN:VEVENT
DTSTART;VALUE=DATE:20250117
DTEND;VALUE=DATE:20250119
DTSTAMP:20260425T090931
CREATED:20250113T223250Z
LAST-MODIFIED:20250113T223250Z
UID:11234-1737079200-1737165599@pine.edu
SUMMARY:Last Day to Add/Drop Classes
DESCRIPTION:
URL:https://pine.edu/event/last-day-to-add-drop-classes/
LOCATION:MN
END:VEVENT
BEGIN:VEVENT
DTSTART;TZID=America/Chicago:20250116T090000
DTEND;TZID=America/Chicago:20250116T160000
DTSTAMP:20260425T090931
CREATED:20250114T185246Z
LAST-MODIFIED:20250114T185246Z
UID:11285-1737018000-1737043200@pine.edu
SUMMARY:PSEO Drop-In Advising
DESCRIPTION:
URL:https://pine.edu/event/pseo-drop-in-advising/
LOCATION:The REC\, 510 2nd St. SE\, Pine City\, MN\, 55063\, United States
ATTACH;FMTTYPE=image/png:https://pine.edu/wp-lib/wp-content/uploads/2025/01/PSEO-Dropin-Hours-Slider-January.png
END:VEVENT
BEGIN:VEVENT
DTSTART;TZID=America/Chicago:20250115T160000
DTEND;TZID=America/Chicago:20250115T190000
DTSTAMP:20260425T090931
CREATED:20250113T222501Z
LAST-MODIFIED:20250113T222501Z
UID:11218-1736956800-1736967600@pine.edu
SUMMARY:Rock\, Paper\, Scissors Competition @ The REC
DESCRIPTION:
URL:https://pine.edu/event/rock-paper-scissors-competition-the-rec/
LOCATION:The REC\, 510 2nd St. SE\, Pine City\, MN\, 55063\, United States
ATTACH;FMTTYPE=image/jpeg:https://pine.edu/wp-lib/wp-content/uploads/2025/01/Light-Blue-Pastel-Blue-Handdrawn-World-Rock-Paper-Scissors-Day-Challenge-Instagram-Story-Presentation.jpg
ORGANIZER;CN="Stacy O'Rourke":MAILTO:stacy.orourke@pine.edu
END:VEVENT
BEGIN:VEVENT
DTSTART;TZID=America/Chicago:20250113T080000
DTEND;TZID=America/Chicago:20250117T190000
DTSTAMP:20260425T090931
CREATED:20250113T222257Z
LAST-MODIFIED:20250113T222257Z
UID:11215-1736755200-1737140400@pine.edu
SUMMARY:Spring Welcome Week
DESCRIPTION:
URL:https://pine.edu/event/spring-welcome-week/
LOCATION:Pine Technical and Community College\, 900 4th St. Se\, Pine City\, MN\, 55063\, United States
ATTACH;FMTTYPE=image/jpeg:https://pine.edu/wp-lib/wp-content/uploads/2025/01/Welcome-Week.jpg
END:VEVENT
BEGIN:VEVENT
DTSTART;VALUE=DATE:20250113
DTEND;VALUE=DATE:20250115
DTSTAMP:20260425T090931
CREATED:20250113T223334Z
LAST-MODIFIED:20250113T223335Z
UID:11238-1736733600-1736819999@pine.edu
SUMMARY:First Day of Spring Semester
DESCRIPTION:
URL:https://pine.edu/event/first-day-of-spring-semester/
LOCATION:MN
END:VEVENT
END:VCALENDAR