BEGIN:VCALENDAR
VERSION:2.0
PRODID:-//Pine Technical and Community College - ECPv6.15.20//NONSGML v1.0//EN
CALSCALE:GREGORIAN
METHOD:PUBLISH
X-WR-CALNAME:Pine Technical and Community College
X-ORIGINAL-URL:https://pine.edu
X-WR-CALDESC:Events for Pine Technical and Community College
REFRESH-INTERVAL;VALUE=DURATION:PT1H
X-Robots-Tag:noindex
X-PUBLISHED-TTL:PT1H
BEGIN:VTIMEZONE
TZID:America/Chicago
BEGIN:DAYLIGHT
TZOFFSETFROM:-0600
TZOFFSETTO:-0500
TZNAME:CDT
DTSTART:20240310T080000
END:DAYLIGHT
BEGIN:STANDARD
TZOFFSETFROM:-0500
TZOFFSETTO:-0600
TZNAME:CST
DTSTART:20241103T070000
END:STANDARD
BEGIN:DAYLIGHT
TZOFFSETFROM:-0600
TZOFFSETTO:-0500
TZNAME:CDT
DTSTART:20250309T080000
END:DAYLIGHT
BEGIN:STANDARD
TZOFFSETFROM:-0500
TZOFFSETTO:-0600
TZNAME:CST
DTSTART:20251102T070000
END:STANDARD
BEGIN:DAYLIGHT
TZOFFSETFROM:-0600
TZOFFSETTO:-0500
TZNAME:CDT
DTSTART:20260308T080000
END:DAYLIGHT
BEGIN:STANDARD
TZOFFSETFROM:-0500
TZOFFSETTO:-0600
TZNAME:CST
DTSTART:20261101T070000
END:STANDARD
BEGIN:DAYLIGHT
TZOFFSETFROM:-0600
TZOFFSETTO:-0500
TZNAME:CDT
DTSTART:20270314T080000
END:DAYLIGHT
BEGIN:STANDARD
TZOFFSETFROM:-0500
TZOFFSETTO:-0600
TZNAME:CST
DTSTART:20271107T070000
END:STANDARD
END:VTIMEZONE
BEGIN:VEVENT
DTSTART;TZID=America/Chicago:20251125T160000
DTEND;TZID=America/Chicago:20251125T170000
DTSTAMP:20260424T103926
CREATED:20251118T222650Z
LAST-MODIFIED:20251118T222650Z
UID:13605-1764086400-1764090000@pine.edu
SUMMARY:Arts at Pine
DESCRIPTION:Come celebrate the creativity and talent of PTCC Students at our Student Art Show!\nDate: November 25\, 2025\nTime: 4:00 PM\nLocation: PTCC Library\nJoin an inspiring hour filled with student-created art\, from visual pieces to written works. Hear directly from the artists as they share the stories behind their creations\, and connect with fellow art enthusiasts in a relaxed\, welcoming atmosphere.\nSnacks will be provided\, and all are welcome!\nArt submission forms are due by November 14th – and all forms of art are encouraged\, including writing!\nLet’s celebrate the power of student expression together!
URL:https://pine.edu/event/arts-at-pine/
LOCATION:Library
END:VEVENT
BEGIN:VEVENT
DTSTART;VALUE=DATE:20251127
DTEND;VALUE=DATE:20251129
DTSTAMP:20260424T103926
CREATED:20250915T170811Z
LAST-MODIFIED:20250915T170811Z
UID:13244-1764208800-1764295199@pine.edu
SUMMARY:Campus Closed: Thanksgiving Holiday
DESCRIPTION:
URL:https://pine.edu/event/campus-closed-thanksgiving-holiday-2/
END:VEVENT
BEGIN:VEVENT
DTSTART;VALUE=DATE:20251128
DTEND;VALUE=DATE:20251130
DTSTAMP:20260424T103926
CREATED:20250915T170839Z
LAST-MODIFIED:20250915T170839Z
UID:13246-1764295200-1764381599@pine.edu
SUMMARY:Campus Closed: Thanksgiving Holiday
DESCRIPTION:
URL:https://pine.edu/event/campus-closed-thanksgiving-holiday-3/
END:VEVENT
BEGIN:VEVENT
DTSTART;VALUE=DATE:20251129
DTEND;VALUE=DATE:20251201
DTSTAMP:20260424T103926
CREATED:20250915T170901Z
LAST-MODIFIED:20250915T170901Z
UID:13248-1764381600-1764467999@pine.edu
SUMMARY:Campus Closed: Thanksgiving Holiday
DESCRIPTION:
URL:https://pine.edu/event/campus-closed-thanksgiving-holiday-4/
END:VEVENT
BEGIN:VEVENT
DTSTART;VALUE=DATE:20251215
DTEND;VALUE=DATE:20251217
DTSTAMP:20260424T103926
CREATED:20250915T170939Z
LAST-MODIFIED:20250915T170939Z
UID:13250-1765764000-1765850399@pine.edu
SUMMARY:Final Exam Week
DESCRIPTION:December 15-19\, Final Exam Week; Final Exams for Sat. Classes Dec. 20
URL:https://pine.edu/event/final-exam-week-3/
END:VEVENT
BEGIN:VEVENT
DTSTART;VALUE=DATE:20251220
DTEND;VALUE=DATE:20251222
DTSTAMP:20260424T103926
CREATED:20250915T171007Z
LAST-MODIFIED:20250915T171007Z
UID:13252-1766196000-1766282399@pine.edu
SUMMARY:Last Day Of Classes
DESCRIPTION:
URL:https://pine.edu/event/last-day-of-classes/
END:VEVENT
BEGIN:VEVENT
DTSTART;VALUE=DATE:20251222
DTEND;VALUE=DATE:20251224
DTSTAMP:20260424T103926
CREATED:20250915T171116Z
LAST-MODIFIED:20250915T171116Z
UID:13256-1766368800-1766455199@pine.edu
SUMMARY:No Classes: Semester Break
DESCRIPTION:December 22-January 9
URL:https://pine.edu/event/no-classes-semester-break-2/
END:VEVENT
BEGIN:VEVENT
DTSTART;VALUE=DATE:20251225
DTEND;VALUE=DATE:20251227
DTSTAMP:20260424T103926
CREATED:20250915T171039Z
LAST-MODIFIED:20250915T171039Z
UID:13254-1766628000-1766714399@pine.edu
SUMMARY:Campus Closed: Holiday Observed
DESCRIPTION:
URL:https://pine.edu/event/campus-closed-holiday-observed/
END:VEVENT
BEGIN:VEVENT
DTSTART;VALUE=DATE:20260101
DTEND;VALUE=DATE:20260103
DTSTAMP:20260424T103926
CREATED:20250915T171148Z
LAST-MODIFIED:20250915T171148Z
UID:13258-1767232800-1767319199@pine.edu
SUMMARY:Campus Closed: New Year's Day Holiday
DESCRIPTION:
URL:https://pine.edu/event/campus-closed-new-years-day-holiday/
END:VEVENT
BEGIN:VEVENT
DTSTART;VALUE=DATE:20260112
DTEND;VALUE=DATE:20260114
DTSTAMP:20260424T103926
CREATED:20250915T171219Z
LAST-MODIFIED:20250915T171219Z
UID:13260-1768183200-1768269599@pine.edu
SUMMARY:Spring Semester Begins
DESCRIPTION:
URL:https://pine.edu/event/spring-semester-begins/
END:VEVENT
BEGIN:VEVENT
DTSTART;VALUE=DATE:20260116
DTEND;VALUE=DATE:20260118
DTSTAMP:20260424T103926
CREATED:20260115T165138Z
LAST-MODIFIED:20260115T165138Z
UID:13774-1768528800-1768615199@pine.edu
SUMMARY:Last Day to Drop Full-Semester Courses
DESCRIPTION:
URL:https://pine.edu/event/last-day-to-drop-full-semester-courses/
END:VEVENT
BEGIN:VEVENT
DTSTART;TZID=America/Chicago:20260116T090000
DTEND;TZID=America/Chicago:20260116T160000
DTSTAMP:20260424T103926
CREATED:20260115T221036Z
LAST-MODIFIED:20260115T221036Z
UID:13870-1768554000-1768579200@pine.edu
SUMMARY:Drop-In Advising
DESCRIPTION:Drop-in style advising and registration assistance available for PSEO students and incoming undergraduate students. \n\nJan. 16\, 9:00 AM-4:00 PM\nJan. 23\, 12:00 PM\nFeb. 28\, 1:00 PM-4:00 PM\nMar. 24\, 25\, 9:00 AM-4:00 PM\nMar. 27\, 1:00 PM-4:00 PM\nApr. 3\, 10\, 17\, 24\, 1:00 PM-4:00 PM\nMay 1\, 22\, 1:00 PM-4:00 PM
URL:https://pine.edu/event/drop-in-advising-15/
LOCATION:The REC\, 510 2nd St. SE\, Pine City\, MN\, 55063\, United States
END:VEVENT
BEGIN:VEVENT
DTSTART;VALUE=DATE:20260119
DTEND;VALUE=DATE:20260121
DTSTAMP:20260424T103926
CREATED:20250915T171256Z
LAST-MODIFIED:20250915T171256Z
UID:13262-1768788000-1768874399@pine.edu
SUMMARY:Campus Closed: Martin Luther King Day
DESCRIPTION:
URL:https://pine.edu/event/campus-closed-martin-luther-king-day/
END:VEVENT
BEGIN:VEVENT
DTSTART;TZID=America/Chicago:20260120T170000
DTEND;TZID=America/Chicago:20260120T190000
DTSTAMP:20260424T103926
CREATED:20260115T165247Z
LAST-MODIFIED:20260115T165247Z
UID:13776-1768928400-1768935600@pine.edu
SUMMARY:Bingo Trivia
DESCRIPTION:Food @ 5:00 pm\, game @ 5:30 pm
URL:https://pine.edu/event/bingo-trivia/
LOCATION:The REC\, 510 2nd St. SE\, Pine City\, MN\, 55063\, United States
CATEGORIES:The REC
ORGANIZER;CN="Stacy O'Rourke":MAILTO:stacy.orourke@pine.edu
END:VEVENT
BEGIN:VEVENT
DTSTART;TZID=America/Chicago:20260121T110000
DTEND;TZID=America/Chicago:20260121T120000
DTSTAMP:20260424T103926
CREATED:20260115T165359Z
LAST-MODIFIED:20260115T165359Z
UID:13778-1768993200-1768996800@pine.edu
SUMMARY:Live Music & "Dear Future Me" Letter Writing Event
DESCRIPTION:
URL:https://pine.edu/event/live-music-dear-future-me-letter-writing-event/
LOCATION:The Lodge
END:VEVENT
BEGIN:VEVENT
DTSTART;TZID=America/Chicago:20260121T160000
DTEND;TZID=America/Chicago:20260121T180000
DTSTAMP:20260424T103926
CREATED:20260115T220214Z
LAST-MODIFIED:20260115T220214Z
UID:13850-1769011200-1769018400@pine.edu
SUMMARY:Board Game Club
DESCRIPTION:No experience necessary. Come for the games\, stay for the friendships! Games change week to week. Every Wednesday at The REC.
URL:https://pine.edu/event/board-game-club-14/
LOCATION:The REC\, 510 2nd St. SE\, Pine City\, MN\, 55063\, United States
CATEGORIES:The REC
ORGANIZER;CN="Stacy O'Rourke":MAILTO:stacy.orourke@pine.edu
END:VEVENT
BEGIN:VEVENT
DTSTART;TZID=America/Chicago:20260123T120000
DTEND;TZID=America/Chicago:20260123T160000
DTSTAMP:20260424T103926
CREATED:20260115T221136Z
LAST-MODIFIED:20260115T221136Z
UID:13872-1769169600-1769184000@pine.edu
SUMMARY:Drop-In Advising
DESCRIPTION:Drop-in style advising and registration assistance available for PSEO students and incoming undergraduate students. \n\nJan. 16\, 9:00 AM-4:00 PM\nJan. 23\, 12:00 PM-4:00 PM\nFeb. 28\, 1:00 PM-4:00 PM\nMar. 24\, 25\, 9:00 AM-4:00 PM\nMar. 27\, 1:00 PM-4:00 PM\nApr. 3\, 10\, 17\, 24\, 1:00 PM-4:00 PM\nMay 1\, 22\, 1:00 PM-4:00 PM
URL:https://pine.edu/event/drop-in-advising-16/
LOCATION:The REC\, 510 2nd St. SE\, Pine City\, MN\, 55063\, United States
END:VEVENT
BEGIN:VEVENT
DTSTART;TZID=America/Chicago:20260123T140000
DTEND;TZID=America/Chicago:20260123T170000
DTSTAMP:20260424T103926
CREATED:20260115T215516Z
LAST-MODIFIED:20260115T215516Z
UID:13838-1769176800-1769187600@pine.edu
SUMMARY:Learn Ice Fishing
DESCRIPTION:
URL:https://pine.edu/event/learn-ice-fishing/
LOCATION:The REC\, 510 2nd St. SE\, Pine City\, MN\, 55063\, United States
CATEGORIES:The REC
ORGANIZER;CN="Stacy O'Rourke":MAILTO:stacy.orourke@pine.edu
END:VEVENT
BEGIN:VEVENT
DTSTART;TZID=America/Chicago:20260126T110000
DTEND;TZID=America/Chicago:20260126T120000
DTSTAMP:20260424T103926
CREATED:20260115T165453Z
LAST-MODIFIED:20260115T165453Z
UID:13780-1769425200-1769428800@pine.edu
SUMMARY:Student Senate Meeting
DESCRIPTION:
URL:https://pine.edu/event/student-senate-meeting/
LOCATION:Auditorium
ORGANIZER;CN="Santhi Sheehan-Lusk":MAILTO:santhi.sheehan@pine.edu
END:VEVENT
BEGIN:VEVENT
DTSTART;TZID=America/Chicago:20260126T110000
DTEND;TZID=America/Chicago:20260126T120000
DTSTAMP:20260424T103926
CREATED:20260115T165544Z
LAST-MODIFIED:20260115T165544Z
UID:13782-1769425200-1769428800@pine.edu
SUMMARY:Healthy U: Week 1 - The Power of Nature
DESCRIPTION:
URL:https://pine.edu/event/healthy-u-week-1-the-power-of-nature/
LOCATION:Virtual
END:VEVENT
BEGIN:VEVENT
DTSTART;TZID=America/Chicago:20260126T110000
DTEND;TZID=America/Chicago:20260126T120000
DTSTAMP:20260424T103926
CREATED:20260115T165633Z
LAST-MODIFIED:20260115T165633Z
UID:13784-1769425200-1769428800@pine.edu
SUMMARY:SNAPO: Bingo for Groceries
DESCRIPTION:
URL:https://pine.edu/event/snapo-bingo-for-groceries/
END:VEVENT
BEGIN:VEVENT
DTSTART;TZID=America/Chicago:20260128T160000
DTEND;TZID=America/Chicago:20260128T180000
DTSTAMP:20260424T103926
CREATED:20260115T220254Z
LAST-MODIFIED:20260115T220254Z
UID:13852-1769616000-1769623200@pine.edu
SUMMARY:Board Game Club
DESCRIPTION:No experience necessary. Come for the games\, stay for the friendships! Games change week to week. Every Wednesday at The REC.
URL:https://pine.edu/event/board-game-club-15/
LOCATION:The REC\, 510 2nd St. SE\, Pine City\, MN\, 55063\, United States
CATEGORIES:The REC
ORGANIZER;CN="Stacy O'Rourke":MAILTO:stacy.orourke@pine.edu
END:VEVENT
BEGIN:VEVENT
DTSTART;TZID=America/Chicago:20260129T150000
DTEND;TZID=America/Chicago:20260129T180000
DTSTAMP:20260424T103926
CREATED:20260115T165714Z
LAST-MODIFIED:20260115T165714Z
UID:13786-1769698800-1769709600@pine.edu
SUMMARY:Books and Snacks
DESCRIPTION:
URL:https://pine.edu/event/books-and-snacks/
LOCATION:The REC\, 510 2nd St. SE\, Pine City\, MN\, 55063\, United States
CATEGORIES:The REC
ORGANIZER;CN="Stacy O'Rourke":MAILTO:stacy.orourke@pine.edu
END:VEVENT
BEGIN:VEVENT
DTSTART;TZID=America/Chicago:20260202T110000
DTEND;TZID=America/Chicago:20260202T120000
DTSTAMP:20260424T103926
CREATED:20260115T165759Z
LAST-MODIFIED:20260115T165759Z
UID:13788-1770030000-1770033600@pine.edu
SUMMARY:Healthy U: Week 2 - Social Wellbeing
DESCRIPTION:
URL:https://pine.edu/event/healthy-u-week-2-social-wellbeing/
LOCATION:Virtual
ORGANIZER;CN="Kevynn Schumacher":MAILTO:kevynn.schumacher@pine.edu
END:VEVENT
BEGIN:VEVENT
DTSTART;TZID=America/Chicago:20260202T110000
DTEND;TZID=America/Chicago:20260202T120000
DTSTAMP:20260424T103926
CREATED:20260115T165838Z
LAST-MODIFIED:20260115T165838Z
UID:13790-1770030000-1770033600@pine.edu
SUMMARY:TRIO Welcome Event
DESCRIPTION:
URL:https://pine.edu/event/trio-welcome-event/
END:VEVENT
BEGIN:VEVENT
DTSTART;TZID=America/Chicago:20260204T110000
DTEND;TZID=America/Chicago:20260204T120000
DTSTAMP:20260424T103926
CREATED:20260115T165931Z
LAST-MODIFIED:20260115T165931Z
UID:13792-1770202800-1770206400@pine.edu
SUMMARY:Digital De-Cluttering: Tips for Organizing Your Digital Life
DESCRIPTION:
URL:https://pine.edu/event/digital-de-cluttering-tips-for-organizing-your-digital-life/
LOCATION:Room 51
END:VEVENT
BEGIN:VEVENT
DTSTART;TZID=America/Chicago:20260204T110000
DTEND;TZID=America/Chicago:20260204T130000
DTSTAMP:20260424T103926
CREATED:20260115T170005Z
LAST-MODIFIED:20260115T170005Z
UID:13794-1770202800-1770210000@pine.edu
SUMMARY:Live Music in The Lodge
DESCRIPTION:
URL:https://pine.edu/event/live-music-in-the-lodge/
END:VEVENT
BEGIN:VEVENT
DTSTART;TZID=America/Chicago:20260204T160000
DTEND;TZID=America/Chicago:20260204T180000
DTSTAMP:20260424T103926
CREATED:20260115T220336Z
LAST-MODIFIED:20260115T220336Z
UID:13854-1770220800-1770228000@pine.edu
SUMMARY:Board Game Club
DESCRIPTION:No experience necessary. Come for the games\, stay for the friendships! Games change week to week. Every Wednesday at The REC.
URL:https://pine.edu/event/board-game-club-16/
LOCATION:The REC\, 510 2nd St. SE\, Pine City\, MN\, 55063\, United States
CATEGORIES:The REC
ORGANIZER;CN="Stacy O'Rourke":MAILTO:stacy.orourke@pine.edu
END:VEVENT
BEGIN:VEVENT
DTSTART;VALUE=DATE:20260209
DTEND;VALUE=DATE:20260215
DTSTAMP:20260424T103926
CREATED:20260115T170251Z
LAST-MODIFIED:20260115T170251Z
UID:13800-1770602400-1771034399@pine.edu
SUMMARY:Romcoms at The REC
DESCRIPTION:Everyday at 3:00 pm!
URL:https://pine.edu/event/romcoms-at-the-rec/
LOCATION:The REC\, 510 2nd St. SE\, Pine City\, MN\, 55063\, United States
CATEGORIES:The REC
ORGANIZER;CN="Stacy O'Rourke":MAILTO:stacy.orourke@pine.edu
END:VEVENT
BEGIN:VEVENT
DTSTART;VALUE=DATE:20260209
DTEND;VALUE=DATE:20260222
DTSTAMP:20260424T103926
CREATED:20260115T170342Z
LAST-MODIFIED:20260115T170342Z
UID:13802-1770602400-1771639199@pine.edu
SUMMARY:Winter Olympics Playing at The REC
DESCRIPTION:
URL:https://pine.edu/event/winter-olympics-playing-at-the-rec/
LOCATION:The REC\, 510 2nd St. SE\, Pine City\, MN\, 55063\, United States
CATEGORIES:The REC
ORGANIZER;CN="Stacy O'Rourke":MAILTO:stacy.orourke@pine.edu
END:VEVENT
END:VCALENDAR